BEGIN:VCALENDAR
VERSION:2.0
CALSCALE:GREGORIAN
PRODID:adamgibbons/ics
METHOD:PUBLISH
X-PUBLISHED-TTL:PT1H
BEGIN:VEVENT
UID:1608@montreall.askapunk.net
SUMMARY:Adrienne Munden-Dixon/Mark Molnar/Raph Foisy-Couture + Jesse Eckerl
	in + Robyn Gray
DTSTAMP:20260419T121852Z
DTSTART:20260524T190000Z
DTEND:20260524T223000Z
URL:https://montreal.askapunk.net/event/adrienne-munden-dixonmark-molnarrap
	h-foisy-couture-jesse-eckerlin-robyn-gray
LOCATION:Error 403 - 170 Jean Talon O
STATUS:CONFIRMED
CATEGORIES:ALL AGES,MTLDIY,avant garde,experimental
END:VEVENT
END:VCALENDAR
